BEGIN:VCALENDAR
VERSION:2.0
PRODID:-//BACC - ECPv6.15.12.2//NONSGML v1.0//EN
CALSCALE:GREGORIAN
METHOD:PUBLISH
X-ORIGINAL-URL:https://baccohio.org
X-WR-CALDESC:Events for BACC
REFRESH-INTERVAL;VALUE=DURATION:PT1H
X-Robots-Tag:noindex
X-PUBLISHED-TTL:PT1H
BEGIN:VTIMEZONE
TZID:America/New_York
BEGIN:DAYLIGHT
TZOFFSETFROM:-0500
TZOFFSETTO:-0400
TZNAME:EDT
DTSTART:20240310T070000
END:DAYLIGHT
BEGIN:STANDARD
TZOFFSETFROM:-0400
TZOFFSETTO:-0500
TZNAME:EST
DTSTART:20241103T060000
END:STANDARD
BEGIN:DAYLIGHT
TZOFFSETFROM:-0500
TZOFFSETTO:-0400
TZNAME:EDT
DTSTART:20250309T070000
END:DAYLIGHT
BEGIN:STANDARD
TZOFFSETFROM:-0400
TZOFFSETTO:-0500
TZNAME:EST
DTSTART:20251102T060000
END:STANDARD
BEGIN:DAYLIGHT
TZOFFSETFROM:-0500
TZOFFSETTO:-0400
TZNAME:EDT
DTSTART:20260308T070000
END:DAYLIGHT
BEGIN:STANDARD
TZOFFSETFROM:-0400
TZOFFSETTO:-0500
TZNAME:EST
DTSTART:20261101T060000
END:STANDARD
END:VTIMEZONE
BEGIN:VEVENT
DTSTART;TZID=America/New_York:20250509T113000
DTEND;TZID=America/New_York:20250509T133000
DTSTAMP:20260424T120611
CREATED:20250320T135110Z
LAST-MODIFIED:20250424T134033Z
UID:8905-1746790200-1746797400@baccohio.org
SUMMARY:Link Club with Ray Waite - AI’s Silent Disruption: Why Businesses Must Act Now
DESCRIPTION:Exclusive Luncheon with Guest Speaker\nRay Waite\, M.S.\, PMP\nFounder of Lighthouse Force\nHosted by the BACC-Ohio \n“AI’s Silent Disruption: Why Businesses Must Act Now”\nDon’t miss this exclusive luncheon hosted by the BACC-Ohio\, featuring Ray Waite\, M.S.\, PMP\, founder of Lighthouse Force\, as our distinguished guest speaker. In his presentation\, “AI’s Silent Disruption: Why Businesses Must Act Now\,” Ray break down the myths and discuss the practical steps you can take today to prepare your company for AI-driven success. \nDate: May 9\, 2025\nLocation: The Cleveland Yachting Club\, 200 Yacht Club Drive | Rocky River\, OH 44116 \nRay is a futurist\, passionate about helping individuals\, entrepreneurs\, and organizations understand and develop the skills necessary to survive and thrive in the emerging turbulent marketplace. He is the founder of Lighthouse Force and an expert in innovation\, design thinking\, artificial intelligence\, professional ethics\, and professional development. \nRay offers keynotes and training based on more than 20 years as a senior engineering manager in the business\, commerce and telecom industries at AT&T Bell Laboratories\, Lucent Technologies\, IBM and Citizens Bank. He earned his master’s degree in computer science from The Ohio State University and a Project Management Professional (PMP®) certificate from the Project Management Institute. Ray is a member of the National Speaker’s Association and holds a Competent Communicator certificate from Toastmasters International. \nRay loves taking the complex and explaining it in a practical way that can be easily applied. His presentations are fun\, informative and full of audience participation. \nRegister Early!
URL:https://baccohio.org/event/link-club-with-ray-waite-may-2025/
LOCATION:The Cleveland Yachting Club\, 200 Yacht Club Drive\, Rocky River\, OH\, 44116\, United States
CATEGORIES:BACC Hosted,Link Club
ATTACH;FMTTYPE=image/jpeg:https://baccohio.org/wp-content/uploads/2025/03/Ray-Waite-Lighthouse-Force-0468-scaled-1.jpg
END:VEVENT
END:VCALENDAR