BEGIN:VCALENDAR
VERSION:2.0
PRODID:-//BACC - ECPv6.15.12.2//NONSGML v1.0//EN
CALSCALE:GREGORIAN
METHOD:PUBLISH
X-WR-CALNAME:BACC
X-ORIGINAL-URL:https://baccohio.org
X-WR-CALDESC:Events for BACC
REFRESH-INTERVAL;VALUE=DURATION:PT1H
X-Robots-Tag:noindex
X-PUBLISHED-TTL:PT1H
BEGIN:VTIMEZONE
TZID:America/New_York
BEGIN:DAYLIGHT
TZOFFSETFROM:-0500
TZOFFSETTO:-0400
TZNAME:EDT
DTSTART:20240310T070000
END:DAYLIGHT
BEGIN:STANDARD
TZOFFSETFROM:-0400
TZOFFSETTO:-0500
TZNAME:EST
DTSTART:20241103T060000
END:STANDARD
BEGIN:DAYLIGHT
TZOFFSETFROM:-0500
TZOFFSETTO:-0400
TZNAME:EDT
DTSTART:20250309T070000
END:DAYLIGHT
BEGIN:STANDARD
TZOFFSETFROM:-0400
TZOFFSETTO:-0500
TZNAME:EST
DTSTART:20251102T060000
END:STANDARD
BEGIN:DAYLIGHT
TZOFFSETFROM:-0500
TZOFFSETTO:-0400
TZNAME:EDT
DTSTART:20260308T070000
END:DAYLIGHT
BEGIN:STANDARD
TZOFFSETFROM:-0400
TZOFFSETTO:-0500
TZNAME:EST
DTSTART:20261101T060000
END:STANDARD
END:VTIMEZONE
BEGIN:VEVENT
DTSTART;TZID=America/New_York:20250926T113000
DTEND;TZID=America/New_York:20250926T130000
DTSTAMP:20260424T021833
CREATED:20250730T150934Z
LAST-MODIFIED:20250730T153639Z
UID:9065-1758886200-1758891600@baccohio.org
SUMMARY:Link Club with John Senese – September 2025
DESCRIPTION:“How the FTZ Program Can Help Mitigate the Impact of New Tariffs”\nDate: Friday\, September 26\, 11:30 AM – 1:30 PM \nLocation: Delmonico’s Steakhouse\, 6001 Quarry Lane | Independence\, OH 44131 \nSpeaker: John Senese\, BACC-Ohio President and CEO\, ChemJays LLC \nIn today’s volatile trade climate\, rising tariffs are impacting businesses across industries—and more increases may be on the way. At this timely BACC Link Club Luncheon event\, you’ll hear from John Senese\, an expert in international trade and compliance\, about how the Foreign-Trade Zones (FTZ) Program can be a powerful tool to defer\, reduce\, or eliminate tariffs. \nJohn\, who recently appeared on Channel 5 News alongside the Port of Cleveland\, has been at the forefront of educating businesses on how FTZs can unlock significant cost savings and enhance global competitiveness. \nNow more than ever\, staying informed is key. Don’t miss this opportunity to learn from a leading voice in the field. \nRegister Early!
URL:https://baccohio.org/event/link-club-john-senese-september-2025/
LOCATION:Delmonico’s Steak House\, 6001 Quarry Lane\, Independence\, OH\, 44131\, United States
CATEGORIES:BACC Hosted,Link Club
ATTACH;FMTTYPE=image/jpeg:https://baccohio.org/wp-content/uploads/2025/07/LinkClub_2160x1080_CLE-v1-SENESE.jpg
END:VEVENT
END:VCALENDAR