BEGIN:VCALENDAR
VERSION:2.0
PRODID:-//BACC - ECPv6.15.12.2//NONSGML v1.0//EN
CALSCALE:GREGORIAN
METHOD:PUBLISH
X-ORIGINAL-URL:https://baccohio.org
X-WR-CALDESC:Events for BACC
REFRESH-INTERVAL;VALUE=DURATION:PT1H
X-Robots-Tag:noindex
X-PUBLISHED-TTL:PT1H
BEGIN:VTIMEZONE
TZID:America/New_York
BEGIN:DAYLIGHT
TZOFFSETFROM:-0500
TZOFFSETTO:-0400
TZNAME:EDT
DTSTART:20220313T070000
END:DAYLIGHT
BEGIN:STANDARD
TZOFFSETFROM:-0400
TZOFFSETTO:-0500
TZNAME:EST
DTSTART:20221106T060000
END:STANDARD
BEGIN:DAYLIGHT
TZOFFSETFROM:-0500
TZOFFSETTO:-0400
TZNAME:EDT
DTSTART:20230312T070000
END:DAYLIGHT
BEGIN:STANDARD
TZOFFSETFROM:-0400
TZOFFSETTO:-0500
TZNAME:EST
DTSTART:20231105T060000
END:STANDARD
BEGIN:DAYLIGHT
TZOFFSETFROM:-0500
TZOFFSETTO:-0400
TZNAME:EDT
DTSTART:20240310T070000
END:DAYLIGHT
BEGIN:STANDARD
TZOFFSETFROM:-0400
TZOFFSETTO:-0500
TZNAME:EST
DTSTART:20241103T060000
END:STANDARD
END:VTIMEZONE
BEGIN:VEVENT
DTSTART;TZID=America/New_York:20231027T113000
DTEND;TZID=America/New_York:20231027T133000
DTSTAMP:20260425T232002
CREATED:20230926T010350Z
LAST-MODIFIED:20231013T143229Z
UID:8510-1698406200-1698413400@baccohio.org
SUMMARY:BACC Ohio 2023 AGM
DESCRIPTION:Join us at The Aviator for our Link Club immediately followed by our Annual General Meeting. \n  \nJoin us as John Senese and James Wilson present “Automated Supply Chain Document Processing and Visibility: A Modern Solution for Reducing International Trade Paperwork” \n  \nFintech has evolved to address several challenges while creating a beneficial relationship with the  customer or supplier. The trading practice of handling paper documents from multiple sources has now  been digitized and unlocked to provide additional benefits such as Trade Discounts\, Terms Extension\, Document Visibility\, KYC\, ESG\, Logistics Support\, and Trade Compliance. It is now possible to have nearly immediate access to digital summaries of all relevant information contained within international documents from the moment a shipment leaves the seller’s port or airport until it arrives to its intended destination. This presentation will review the benefits of this new cloud-based technology and how companies can take advantage of its capabilities\, often without the need to implement an internal IT project. \n  \nLunch will be provided at the event and menu choices will be taken on the day. The choices for lunch are outlined below. \n\n\n\n\n\n\n\n\n\nWe look forward to seeing you!
URL:https://baccohio.org/event/bacc-ohio-2023-agm/
LOCATION:OH
CATEGORIES:Link Club
ATTACH;FMTTYPE=image/png:https://baccohio.org/wp-content/uploads/2023/09/Screenshot-2023-10-13-103116.png
END:VEVENT
END:VCALENDAR