BEGIN:VCALENDAR
VERSION:2.0
PRODID:-//BACC - ECPv6.15.12.2//NONSGML v1.0//EN
CALSCALE:GREGORIAN
METHOD:PUBLISH
X-WR-CALNAME:BACC
X-ORIGINAL-URL:https://baccohio.org
X-WR-CALDESC:Events for BACC
REFRESH-INTERVAL;VALUE=DURATION:PT1H
X-Robots-Tag:noindex
X-PUBLISHED-TTL:PT1H
BEGIN:VTIMEZONE
TZID:America/New_York
BEGIN:DAYLIGHT
TZOFFSETFROM:-0500
TZOFFSETTO:-0400
TZNAME:EDT
DTSTART:20240310T070000
END:DAYLIGHT
BEGIN:STANDARD
TZOFFSETFROM:-0400
TZOFFSETTO:-0500
TZNAME:EST
DTSTART:20241103T060000
END:STANDARD
BEGIN:DAYLIGHT
TZOFFSETFROM:-0500
TZOFFSETTO:-0400
TZNAME:EDT
DTSTART:20250309T070000
END:DAYLIGHT
BEGIN:STANDARD
TZOFFSETFROM:-0400
TZOFFSETTO:-0500
TZNAME:EST
DTSTART:20251102T060000
END:STANDARD
BEGIN:DAYLIGHT
TZOFFSETFROM:-0500
TZOFFSETTO:-0400
TZNAME:EDT
DTSTART:20260308T070000
END:DAYLIGHT
BEGIN:STANDARD
TZOFFSETFROM:-0400
TZOFFSETTO:-0500
TZNAME:EST
DTSTART:20261101T060000
END:STANDARD
END:VTIMEZONE
BEGIN:VEVENT
DTSTART;TZID=America/New_York:20250123T173000
DTEND;TZID=America/New_York:20250123T200000
DTSTAMP:20260424T101101
CREATED:20241223T190256Z
LAST-MODIFIED:20241223T190256Z
UID:8806-1737653400-1737662400@baccohio.org
SUMMARY:Passport Professionals - January 2025
DESCRIPTION:You’re Invited!\nJoin us for an exciting evening of networking\, hosted by the BACC\, designed specifically for the Expat Community and Cleveland Passport Professionals. Whether you’re an expat\, a seasoned professional\, or someone who’s recently moved to the U.S.\, this is the perfect opportunity to connect\, share\, and explore new possibilities. \nEvent Highlights:\n\nConnect with Professionals: Network with experts across various industries—international business\, shipping\, logistics\, mobility\, advocacy\, and more.\nDiscover Opportunities: Unlock career prospects and gain valuable insights into the local and global market.\nShare and Learn: Engage in meaningful conversations and exchange ideas with a diverse group of professionals.\n\nDate: January 23\, 2025\nTime: 5:30 – 8:00 PM\nLocation: Terrestrial Brewing Company\, 7524 Father Frascati Dr | Cleveland\, OH 44102\nCost: FREE \nRSVP: Registration Appreciated \nREGISTER TODAY!\nDon’t miss this chance to expand your professional network and engage with a vibrant community. We look forward to seeing you there!
URL:https://baccohio.org/event/passport-professionals-january-2025/
LOCATION:Terrestrial Brewing Company\, 7524 Father Frascati\, Cleveland\, OH\, 44102\, United States
CATEGORIES:Passport Professionals
ATTACH;FMTTYPE=image/jpeg:https://baccohio.org/wp-content/uploads/2024/09/BACC-PP_oct.jpg
END:VEVENT
END:VCALENDAR