BEGIN:VCALENDAR
VERSION:2.0
PRODID:-//BACC - ECPv6.15.12.2//NONSGML v1.0//EN
CALSCALE:GREGORIAN
METHOD:PUBLISH
X-WR-CALNAME:BACC
X-ORIGINAL-URL:https://baccohio.org
X-WR-CALDESC:Events for BACC
REFRESH-INTERVAL;VALUE=DURATION:PT1H
X-Robots-Tag:noindex
X-PUBLISHED-TTL:PT1H
BEGIN:VTIMEZONE
TZID:America/New_York
BEGIN:DAYLIGHT
TZOFFSETFROM:-0500
TZOFFSETTO:-0400
TZNAME:EDT
DTSTART:20240310T070000
END:DAYLIGHT
BEGIN:STANDARD
TZOFFSETFROM:-0400
TZOFFSETTO:-0500
TZNAME:EST
DTSTART:20241103T060000
END:STANDARD
BEGIN:DAYLIGHT
TZOFFSETFROM:-0500
TZOFFSETTO:-0400
TZNAME:EDT
DTSTART:20250309T070000
END:DAYLIGHT
BEGIN:STANDARD
TZOFFSETFROM:-0400
TZOFFSETTO:-0500
TZNAME:EST
DTSTART:20251102T060000
END:STANDARD
BEGIN:DAYLIGHT
TZOFFSETFROM:-0500
TZOFFSETTO:-0400
TZNAME:EDT
DTSTART:20260308T070000
END:DAYLIGHT
BEGIN:STANDARD
TZOFFSETFROM:-0400
TZOFFSETTO:-0500
TZNAME:EST
DTSTART:20261101T060000
END:STANDARD
END:VTIMEZONE
BEGIN:VEVENT
DTSTART;TZID=America/New_York:20250807T173000
DTEND;TZID=America/New_York:20250807T200000
DTSTAMP:20260423T202950
CREATED:20250730T143438Z
LAST-MODIFIED:20250730T143831Z
UID:9055-1754587800-1754596800@baccohio.org
SUMMARY:Passport Professionals – Columbus – August 2025
DESCRIPTION:BACC launches Passport Professionals monthly event in Columbus.\nPassport Professionals in Columbus\, Thursday\, August 7 | 5:30 -8:00 PM \nOld Bag of Nails in Worthington\, 663 North High Street | Worthington\, Ohio 43085 \nThis casual evening is the perfect chance to connect with fellow expats\, international professionals\, and members of the global business community right here in Cleveland. Whether you’re new to the U.S.\, recently relocated\, or a seasoned professional with international ties\, this is your space to share stories\, spark ideas\, and grow your network in a welcoming\, relaxed atmosphere. \nHosted by the BACC\, this event is free—so bring a friend and come enjoy great conversations and a fun evening at one of Columbus’ favorite spots.For more information contact BACC Member in Columbus: Max Posival at mposival@cmhship.co or 614.285.6282. \nNo cost to attend — RSVP and join the fun!
URL:https://baccohio.org/event/passport-professionals-columbus-august-2025/
LOCATION:Old Bag of Nails inWorthington\, 663 North High Street\, Worthington\, OH\, 43085\, United States
CATEGORIES:BACC Hosted,Passport Professionals
ATTACH;FMTTYPE=image/jpeg:https://baccohio.org/wp-content/uploads/2025/07/PP_COLUMBUS_2160x1080.jpg
END:VEVENT
END:VCALENDAR