BEGIN:VCALENDAR
VERSION:2.0
PRODID:-//BACC - ECPv6.15.12.2//NONSGML v1.0//EN
CALSCALE:GREGORIAN
METHOD:PUBLISH
X-WR-CALNAME:BACC
X-ORIGINAL-URL:https://baccohio.org
X-WR-CALDESC:Events for BACC
REFRESH-INTERVAL;VALUE=DURATION:PT1H
X-Robots-Tag:noindex
X-PUBLISHED-TTL:PT1H
BEGIN:VTIMEZONE
TZID:America/New_York
BEGIN:DAYLIGHT
TZOFFSETFROM:-0500
TZOFFSETTO:-0400
TZNAME:EDT
DTSTART:20230312T070000
END:DAYLIGHT
BEGIN:STANDARD
TZOFFSETFROM:-0400
TZOFFSETTO:-0500
TZNAME:EST
DTSTART:20231105T060000
END:STANDARD
BEGIN:DAYLIGHT
TZOFFSETFROM:-0500
TZOFFSETTO:-0400
TZNAME:EDT
DTSTART:20240310T070000
END:DAYLIGHT
BEGIN:STANDARD
TZOFFSETFROM:-0400
TZOFFSETTO:-0500
TZNAME:EST
DTSTART:20241103T060000
END:STANDARD
BEGIN:DAYLIGHT
TZOFFSETFROM:-0500
TZOFFSETTO:-0400
TZNAME:EDT
DTSTART:20250309T070000
END:DAYLIGHT
BEGIN:STANDARD
TZOFFSETFROM:-0400
TZOFFSETTO:-0500
TZNAME:EST
DTSTART:20251102T060000
END:STANDARD
END:VTIMEZONE
BEGIN:VEVENT
DTSTART;TZID=America/New_York:20240425T173000
DTEND;TZID=America/New_York:20240425T200000
DTSTAMP:20260425T092244
CREATED:20240422T020914Z
LAST-MODIFIED:20240422T020914Z
UID:8583-1714066200-1714075200@baccohio.org
SUMMARY:Passport Professionals - April 2024
DESCRIPTION:You’re invited to attend our networking event for Cleveland Passport Professionals and ExPat Community! This is a wonderful opportunity to connect with fellow professionals\, ExPats\, and new Americans who are involved in various verticals\, such as International Business\, Shipping\, Logistics\, Mobility\, Advocacy\, and more here in Greater Cleveland. \nMeet new friends from all over the world\, discover potential professional opportunities\, and engage in knowledge sharing! What new perspectives will you gain from attending? Don’t miss out on this exciting event. We hope to see you there! \n5:30 – 8:00 PM \nTerrestrial Brewing Company\n7524 Father Frascati\,\nCleveland\, OH 44102
URL:https://baccohio.org/event/passport-professionals-april-2024/
LOCATION:Terrestrial Brewing Company\, 7524 Father Frascati\, Cleveland\, OH\, 44102\, United States
CATEGORIES:Passport Professionals
ATTACH;FMTTYPE=image/png:https://baccohio.org/wp-content/uploads/2023/04/Passport-Professionals-Thumbnail-2-2.png
END:VEVENT
END:VCALENDAR