BEGIN:VCALENDAR
VERSION:2.0
PRODID:-//BACC - ECPv6.15.12.2//NONSGML v1.0//EN
CALSCALE:GREGORIAN
METHOD:PUBLISH
X-ORIGINAL-URL:https://baccohio.org
X-WR-CALDESC:Events for BACC
REFRESH-INTERVAL;VALUE=DURATION:PT1H
X-Robots-Tag:noindex
X-PUBLISHED-TTL:PT1H
BEGIN:VTIMEZONE
TZID:America/New_York
BEGIN:DAYLIGHT
TZOFFSETFROM:-0500
TZOFFSETTO:-0400
TZNAME:EDT
DTSTART:20210314T070000
END:DAYLIGHT
BEGIN:STANDARD
TZOFFSETFROM:-0400
TZOFFSETTO:-0500
TZNAME:EST
DTSTART:20211107T060000
END:STANDARD
BEGIN:DAYLIGHT
TZOFFSETFROM:-0500
TZOFFSETTO:-0400
TZNAME:EDT
DTSTART:20220313T070000
END:DAYLIGHT
BEGIN:STANDARD
TZOFFSETFROM:-0400
TZOFFSETTO:-0500
TZNAME:EST
DTSTART:20221106T060000
END:STANDARD
BEGIN:DAYLIGHT
TZOFFSETFROM:-0500
TZOFFSETTO:-0400
TZNAME:EDT
DTSTART:20230312T070000
END:DAYLIGHT
BEGIN:STANDARD
TZOFFSETFROM:-0400
TZOFFSETTO:-0500
TZNAME:EST
DTSTART:20231105T060000
END:STANDARD
BEGIN:DAYLIGHT
TZOFFSETFROM:-0500
TZOFFSETTO:-0400
TZNAME:EDT
DTSTART:20240310T070000
END:DAYLIGHT
BEGIN:STANDARD
TZOFFSETFROM:-0400
TZOFFSETTO:-0500
TZNAME:EST
DTSTART:20241103T060000
END:STANDARD
BEGIN:DAYLIGHT
TZOFFSETFROM:-0500
TZOFFSETTO:-0400
TZNAME:EDT
DTSTART:20250309T070000
END:DAYLIGHT
BEGIN:STANDARD
TZOFFSETFROM:-0400
TZOFFSETTO:-0500
TZNAME:EST
DTSTART:20251102T060000
END:STANDARD
BEGIN:DAYLIGHT
TZOFFSETFROM:-0500
TZOFFSETTO:-0400
TZNAME:EDT
DTSTART:20260308T070000
END:DAYLIGHT
BEGIN:STANDARD
TZOFFSETFROM:-0400
TZOFFSETTO:-0500
TZNAME:EST
DTSTART:20261101T060000
END:STANDARD
END:VTIMEZONE
BEGIN:VTIMEZONE
TZID:America/Halifax
BEGIN:DAYLIGHT
TZOFFSETFROM:-0400
TZOFFSETTO:-0300
TZNAME:ADT
DTSTART:20200308T060000
END:DAYLIGHT
BEGIN:STANDARD
TZOFFSETFROM:-0300
TZOFFSETTO:-0400
TZNAME:AST
DTSTART:20201101T050000
END:STANDARD
BEGIN:DAYLIGHT
TZOFFSETFROM:-0400
TZOFFSETTO:-0300
TZNAME:ADT
DTSTART:20210314T060000
END:DAYLIGHT
BEGIN:STANDARD
TZOFFSETFROM:-0300
TZOFFSETTO:-0400
TZNAME:AST
DTSTART:20211107T050000
END:STANDARD
BEGIN:DAYLIGHT
TZOFFSETFROM:-0400
TZOFFSETTO:-0300
TZNAME:ADT
DTSTART:20220313T060000
END:DAYLIGHT
BEGIN:STANDARD
TZOFFSETFROM:-0300
TZOFFSETTO:-0400
TZNAME:AST
DTSTART:20221106T050000
END:STANDARD
END:VTIMEZONE
BEGIN:VEVENT
DTSTART;TZID=America/New_York:20250825T100000
DTEND;TZID=America/New_York:20250825T200000
DTSTAMP:20260423T103038
CREATED:20250430T124022Z
LAST-MODIFIED:20250822T152802Z
UID:8976-1756116000-1756152000@baccohio.org
SUMMARY:25th Annual Ryder Cup
DESCRIPTION:Join us for the highly anticipated 25th Annual British American Chamber of Commerce (BACC) Ryder Cup on Monday\, August 25\, 2025! This year’s tournament promises to be the most exciting yet\, with Richard Hyde\, His Majesty’s Consul General in Chicago\, leading the European Team as Captain—bringing a touch of royal prestige and international flair to the fairway. On the American side\, PricewaterhouseCoopers (PwC) steps up as the Official U.S. Team Sponsor\, representing the strength and leadership of U.S. industry in true competitive spirit. \nHeld in the heart of Ohio\, the event also supports the Loxley Purse Scholarship Fund\, providing life-changing opportunities for Northern Ohio students to study in the UK. Expect high stakes\, global networking\, and friendly rivalry—all on the green. \nInspired by the legendary Ryder Cup rivalry between the U.S. and Europe\, our BACC Ryder Cup draws on nearly a century of rich history and competition. This iconic event goes beyond just golf—it celebrates the enduring bond between the United States and Great Britain\, blending commerce\, sport\, and tradition in one unforgettable day. \nDon’t miss your chance to be part of this incredible event! Sponsorship opportunities are available—reach out to Kim Holizna at (216) 577-1235\, kholizna@globalaeroindustries.com\, or Don Larson at (216) 302-8124\, dlarson@mcfindustries.com. \nDate: August 25\, 2025\nTime: 10:00 AM – 8:00PM\, 11:00 AM Shotgun Start\nLocation: Red Tail Golf Club\, 4400 Nagel Rd. | Avon\, OH 44011 \nBoxed lunch\, beer cart all day\, dinner and auction of great prizes. This year\, our auction includes two Delta Airline tickets—your ticket to a getaway of your choice—and a wine pull\, offering a chance to snag a premium bottle of wine while supporting this great event. \nREGISTER and join us for a day of friendly competition\, high stakes\, and valuable international networking in the heart of Ohio!
URL:https://baccohio.org/event/25th-annual-ryder-cup/
LOCATION:Red Tail Golf Club\, 440 Nagel Rd\, Avon\, OH\, 44011
CATEGORIES:BACC Hosted,Ryder Cup
ATTACH;FMTTYPE=image/png:https://baccohio.org/wp-content/uploads/2025/04/RyderCup-Sponsorship_2025.png
END:VEVENT
BEGIN:VEVENT
DTSTART;TZID=America/New_York:20240826T100000
DTEND;TZID=America/New_York:20240826T200000
DTSTAMP:20260423T103038
CREATED:20240711T152820Z
LAST-MODIFIED:20240725T165935Z
UID:8657-1724666400-1724702400@baccohio.org
SUMMARY:Ryder Cup 2024
DESCRIPTION:Get ready to swing into action at the much-anticipated 24th Annual British American Chamber of Commerce (BACC) Ryder Cup on Monday\, August 26\, 2024. This is more than just a golf event; it’s a symbol of the longstanding unity between the United States and Great Britain\, showcasing the perfect blend of commerce\, sport\, and tradition. \nOur BACC Ryder Cup proudly draws its spirit from the celebrated Ryder Cup competition between the US and Europe\, a contest steeped in nearly a century of rich history. As we inch closer to this iconic event’s centennial year\, we’re inspired to make our own tournament even more memorable. \nWe’re thrilled to host a diverse group of participants each year\, with golfers from across the U.S. and the U.K. joining us. We can’t wait to see this year’s turnout\, promising a dynamic blend of competition and networking against the backdrop of this prestigious event. \nThe BACC Ryder Cup welcomes everyone from golf veterans to newcomers\, offering a thrilling opportunity to connect with international business leaders while enjoying a friendly\, competitive atmosphere. \nDon’t miss your shot! Tickets are selling fast\, so secure yours soon. Join us for a day filled with high stakes\, friendly rivalry\, and international networking\, right in the heart of Ohio. We can’t wait to welcome you to the BACC Ryder Cup. See you on the green! \nLocation: Red Tail Golf Club\, Avon\, Ohio\n \nREGISTER TODAY!\nIf you are interested in participating in the Ryder Cup this year\, you can purchase tickets HERE.
URL:https://baccohio.org/event/ryder-cup-2024/
LOCATION:Red Tail Golf Club\, 440 Nagel Rd\, Avon\, OH\, 44011
CATEGORIES:Ryder Cup
ATTACH;FMTTYPE=image/jpeg:https://baccohio.org/wp-content/uploads/2024/07/ryder-cup_eventbrite1.jpg
END:VEVENT
BEGIN:VEVENT
DTSTART;TZID=America/New_York:20230918T100000
DTEND;TZID=America/New_York:20230918T190000
DTSTAMP:20260423T103038
CREATED:20230719T192640Z
LAST-MODIFIED:20230813T173506Z
UID:8481-1695031200-1695063600@baccohio.org
SUMMARY:2023 Ryder Cup
DESCRIPTION:Get ready to swing into action at the much-anticipated 23rd Annual British American Chamber of Commerce (BACC) Ryder Cup on Monday\, 18th September 2023. This is more than just a golf event; it’s a symbol of the longstanding unity between the United States and Great Britain\, showcasing the perfect blend of commerce\, sport\, and tradition. \nOur BACC Ryder Cup proudly draws its spirit from the celebrated Ryder Cup competition between the US and Europe\, a contest steeped in nearly a century of rich history. As we inch closer to this iconic event’s centennial year\, we’re inspired to make our own tournament even more memorable. \nWe’re thrilled to host a diverse group of participants each year\, with golfers from across the U.S. and the U.K. joining us. We can’t wait to see this year’s turnout\, promising a dynamic blend of competition and networking against the backdrop of this prestigious event. \nThis year\, we’re excited to announce a special hole-in-one contest at the famed hole number 5 (160 yards). Should you achieve this remarkable feat\, you will be awarded an extraordinary 7-day/6-night golf vacation for two at the illustrious St Andrew’s and Turnberry. This once-in-a-lifetime experience\, valued at $15\,000\, will allow you to play at the Home of Golf\, St Andrews\, including green fees\, overnight accommodations\, daily breakfast\, and roundtrip airfare for two. Four of the nights will be spent in the heart of St. Andrews\, playing the renowned courses of St. Andrews Old\, St. Andrews New\, and Carnoustie\, host of the 2018 British Open. Your adventure will continue with 2 nights at the deluxe Turnberry Resort\, where you’ll have the opportunity to play Turnberry Kintyre and Turnberry Ailsa\, the British Open venue and the highest-ranked course in the British Isles. Challenge yourself\, and may the best shot win! \nThe BACC Ryder Cup welcomes everyone from golf veterans to newcomers\, offering a thrilling opportunity to connect with international business leaders while enjoying a friendly\, competitive atmosphere. \nDon’t miss your shot! Tickets are selling fast\, so secure yours soon. Join us for a day filled with high stakes\, friendly rivalry\, and international networking\, right in the heart of Ohio. We can’t wait to welcome you to the BACC Ryder Cup. See you on the green! \nLocation: Red Tail Golf Club\n4400 Nagel Rd\, Avon\, OH 44011 \n\nRegistration\nIf you are interested in participating in the Ryder Cup this year\, you can purchase tickets HERE. \nMulligans will be available for purchase at the course.
URL:https://baccohio.org/event/ryder23/
LOCATION:Red Tail Golf Club\, 440 Nagel Rd\, Avon\, OH\, 44011
CATEGORIES:Ryder Cup
ATTACH;FMTTYPE=image/png:https://baccohio.org/wp-content/uploads/2023/07/Ryder-Cup-Header-1920-×-960-px-1500-×-500-px-1.png
END:VEVENT
BEGIN:VEVENT
DTSTART;TZID=America/New_York:20220907T080000
DTEND;TZID=America/New_York:20220907T163000
DTSTAMP:20260423T103038
CREATED:20220618T011254Z
LAST-MODIFIED:20220618T011456Z
UID:7439-1662537600-1662568200@baccohio.org
SUMMARY:22nd Annual Ryder Cup
DESCRIPTION:This year the BACC Ryder Cup makes a return as the precursor event to the British American Business Network’s Transatlantic Business Conference. \nYou can read more about this year’s event by clicking here
URL:https://baccohio.org/event/rydercup2022/
CATEGORIES:Ryder Cup
ATTACH;FMTTYPE=image/png:https://baccohio.org/wp-content/uploads/2022/06/Ryder-Cup-Header-2.png
END:VEVENT
BEGIN:VEVENT
DTSTART;TZID=America/Halifax:20210830T090000
DTEND;TZID=America/Halifax:20210830T200000
DTSTAMP:20260423T103038
CREATED:20210623T194746Z
LAST-MODIFIED:20220618T011132Z
UID:6328-1630314000-1630353600@baccohio.org
SUMMARY:21st Annual Ryder Cup
DESCRIPTION:   \n  \n  \n  \nNow in the 21st year\, the BACC Ryder Cup is a unique combination of business and sport highlighting the special relationship between the United States and Great Britain. \nThe morning session is all business with a high-level briefing by policy makers\, trade officials on the issues impacting the future of US UK trade. The post Brexit Transatlantic environment is being written now. The attendees have a great stake in the outcome and framework that will govern the next century of trade. \nOhio alone has nearly $4BB in trade with the UK supporting tens of thousands of jobs across hundreds of companies. Modeled on the nearly century old competition between the US and Europe\, the BACC Ryder Cup is played every years. \n \n  \nHonored Guest \nHer Majesty’s Consul General Alan Gogbashian will be briefing on the negotiations for the US UK Free Trade Agreement. The post Brexit Transatlantic relationship is being reset for the first time since WWII ended. \n  \nSchedule of Events \n\n\n\n\n	9:00 AM Breakfast Trade BriefingCG Gogbashian will be taking questions from the audience.\n\n\n	Noon Tee OffBox lunches \n\n\n	5:00 PM CocktailsReception at the 19th hole\n\n\n	6:00 PM Buffet DinnerPresentation to the winning team\n\n\n\n\nThe current standing is: \n \n  \nRegistration: \nThe Ryder Cup event is available to members of the British American Chamber of Commerce in Ohio. If you would like to attend\, please consider joining our chamber by clicking here. You can secure your ticket by emailing us at info@baccohio.org
URL:https://baccohio.org/event/rydercup2021/
LOCATION:Red Tail Golf Club\, 440 Nagel Rd\, Avon\, OH\, 44011
CATEGORIES:Ryder Cup
END:VEVENT
END:VCALENDAR