BEGIN:VCALENDAR
VERSION:2.0
PRODID:-//BACC - ECPv6.15.12.2//NONSGML v1.0//EN
CALSCALE:GREGORIAN
METHOD:PUBLISH
X-ORIGINAL-URL:https://baccohio.org
X-WR-CALDESC:Events for BACC
REFRESH-INTERVAL;VALUE=DURATION:PT1H
X-Robots-Tag:noindex
X-PUBLISHED-TTL:PT1H
BEGIN:VTIMEZONE
TZID:America/New_York
BEGIN:DAYLIGHT
TZOFFSETFROM:-0500
TZOFFSETTO:-0400
TZNAME:EDT
DTSTART:20230312T070000
END:DAYLIGHT
BEGIN:STANDARD
TZOFFSETFROM:-0400
TZOFFSETTO:-0500
TZNAME:EST
DTSTART:20231105T060000
END:STANDARD
BEGIN:DAYLIGHT
TZOFFSETFROM:-0500
TZOFFSETTO:-0400
TZNAME:EDT
DTSTART:20240310T070000
END:DAYLIGHT
BEGIN:STANDARD
TZOFFSETFROM:-0400
TZOFFSETTO:-0500
TZNAME:EST
DTSTART:20241103T060000
END:STANDARD
BEGIN:DAYLIGHT
TZOFFSETFROM:-0500
TZOFFSETTO:-0400
TZNAME:EDT
DTSTART:20250309T070000
END:DAYLIGHT
BEGIN:STANDARD
TZOFFSETFROM:-0400
TZOFFSETTO:-0500
TZNAME:EST
DTSTART:20251102T060000
END:STANDARD
END:VTIMEZONE
BEGIN:VEVENT
DTSTART;TZID=America/New_York:20241121T173000
DTEND;TZID=America/New_York:20241121T200000
DTSTAMP:20260425T071354
CREATED:20241023T200508Z
LAST-MODIFIED:20241028T142231Z
UID:8782-1732210200-1732219200@baccohio.org
SUMMARY:Passport Professionals - November 2024
DESCRIPTION:You’re Invited!\nAttend a lively networking event hosted by BACC\, aimed at the ExPat Community and Cleveland Passport Professionals. This gathering serves as an excellent platform to connect with other professionals\, expatriates\, and individuals who have recently moved to the United States. \nEvent Highlights:\n\nNetwork with Professionals: Meet and mingle with individuals from various fields\, including international business\, shipping\, logistics\, mobility\, and advocacy.\nExplore Opportunities: Discover potential career prospects and industry insights.\nShare Insights: Exchange knowledge and experiences with a diverse group of attendees.\n\nDate: November 21\, 2024\nTime: 5:30 – 8:00 PM\nLocation: Terrestrial Brewing Company\, 7524 Father Frascati Dr | Cleveland\, OH 44102\nCost: FREE \nRSVP: Registration Appreciated \nREGISTER TODAY!\nDon’t miss this chance to expand your professional network and engage with a vibrant community. We look forward to seeing you there!
URL:https://baccohio.org/event/passport-professionals-november-2024/
LOCATION:Terrestrial Brewing Company\, 7524 Father Frascati\, Cleveland\, OH\, 44102\, United States
CATEGORIES:Passport Professionals
ATTACH;FMTTYPE=image/jpeg:https://baccohio.org/wp-content/uploads/2024/09/BACC-PP_oct.jpg
END:VEVENT
END:VCALENDAR