BEGIN:VCALENDAR
VERSION:2.0
PRODID:-//BACC - ECPv6.15.12.2//NONSGML v1.0//EN
CALSCALE:GREGORIAN
METHOD:PUBLISH
X-ORIGINAL-URL:https://baccohio.org
X-WR-CALDESC:Events for BACC
REFRESH-INTERVAL;VALUE=DURATION:PT1H
X-Robots-Tag:noindex
X-PUBLISHED-TTL:PT1H
BEGIN:VTIMEZONE
TZID:America/New_York
BEGIN:DAYLIGHT
TZOFFSETFROM:-0500
TZOFFSETTO:-0400
TZNAME:EDT
DTSTART:20230312T070000
END:DAYLIGHT
BEGIN:STANDARD
TZOFFSETFROM:-0400
TZOFFSETTO:-0500
TZNAME:EST
DTSTART:20231105T060000
END:STANDARD
BEGIN:DAYLIGHT
TZOFFSETFROM:-0500
TZOFFSETTO:-0400
TZNAME:EDT
DTSTART:20240310T070000
END:DAYLIGHT
BEGIN:STANDARD
TZOFFSETFROM:-0400
TZOFFSETTO:-0500
TZNAME:EST
DTSTART:20241103T060000
END:STANDARD
BEGIN:DAYLIGHT
TZOFFSETFROM:-0500
TZOFFSETTO:-0400
TZNAME:EDT
DTSTART:20250309T070000
END:DAYLIGHT
BEGIN:STANDARD
TZOFFSETFROM:-0400
TZOFFSETTO:-0500
TZNAME:EST
DTSTART:20251102T060000
END:STANDARD
END:VTIMEZONE
BEGIN:VEVENT
DTSTART;TZID=America/New_York:20240919T173000
DTEND;TZID=America/New_York:20240919T200000
DTSTAMP:20260425T001417
CREATED:20240827T151806Z
LAST-MODIFIED:20240827T172558Z
UID:8703-1726767000-1726776000@baccohio.org
SUMMARY:Passport Professionals - September 2024
DESCRIPTION:You’re Invited!\nJoin us for a dynamic networking event tailored for the ExPat Community and Cleveland Passport Professionals. This is an excellent opportunity to connect with fellow professionals\, expats\, and recent arrivals in the United States. \nEvent Highlights:\n\nNetwork with Professionals: Meet and mingle with individuals from various fields\, including international business\, shipping\, logistics\, mobility\, and advocacy.\nExplore Opportunities: Discover potential career prospects and industry insights.\nShare Insights: Exchange knowledge and experiences with a diverse group of attendees.\n\nDate: September 19\, 2024\nTime: 5:30 – 8:00 PM\nLocation: Winking Lizard Tavern\, 6111 Quarry Lane | Independence\, OH 44131\nCost: FREE \nRSVP: Registration Appreciated \nREGISTER TODAY!\nDon’t miss this chance to expand your professional network and engage with a vibrant community. We look forward to seeing you there!
URL:https://baccohio.org/event/passport-professionals-september-2024/
LOCATION:Winking Lizard Tavern\, 6111 Quarry Lane\, Independence\, OH\, 44131\, United States
CATEGORIES:Passport Professionals
ATTACH;FMTTYPE=image/png:https://baccohio.org/wp-content/uploads/2023/04/Passport-Professionals-Thumbnail-2-2.png
END:VEVENT
BEGIN:VEVENT
DTSTART;TZID=America/New_York:20240927T113000
DTEND;TZID=America/New_York:20240927T133000
DTSTAMP:20260425T001417
CREATED:20240422T022549Z
LAST-MODIFIED:20240828T124602Z
UID:8591-1727436600-1727443800@baccohio.org
SUMMARY:Link Club with Blue Abyss - September 2024
DESCRIPTION:Join us for an Exclusive Insight into Blue Abyss: Pioneering Extreme Environment Research and Training \nDate: Friday\, September 27th\, 11:30 AM – 1:30 PM\nLocation: The Aviator\, Ohio \nSpeaker: John Vickers\, CEO of Blue Abyss \nThe British-American Chamber of Commerce invites you to an illuminating luncheon event as we host John Vickers\, CEO of Blue Abyss\, a groundbreaking company at the forefront of extreme environment research\, testing\, and training. \nAbout Blue Abyss:\nBlue Abyss is spearheading the creation of the world’s leading research\, testing\, development\, and training centers tailored for the subsea & space exploration\, and life science sectors. Recognizing a global need for advanced facilities capable of simulating and replicating extreme conditions\, Blue Abyss is paving the way for innovation in sub-sea technologies\, astronaut training\, and space exploration. \nWhy Blue Abyss Matters:\nIn an era marked by rapid advancements in space exploration and deep-sea research\, Blue Abyss stands as a beacon of progress. With a focus on providing state-of-the-art facilities for controlled underwater conditions and comprehensive astronaut training\, Blue Abyss is poised to revolutionize industries and push the boundaries of human knowledge. \nEvent Details:\nThis event offers a unique opportunity to gain insights into Blue Abyss’s groundbreaking initiatives and the transformative impact they promise. Join us for an engaging presentation by CEO John Vickers\, followed by a Q&A session where you can delve deeper into the future of extreme environment research and training. \nREGISTER TODAY!
URL:https://baccohio.org/event/link-club-september-2024/
LOCATION:The Aviator\, 20920 Brookpark Rd\, Cleveland\, OH\, 44135\, United States
CATEGORIES:Link Club
ATTACH;FMTTYPE=image/png:https://baccohio.org/wp-content/uploads/2024/04/Link-Club-20240628.png
END:VEVENT
END:VCALENDAR