BEGIN:VCALENDAR
VERSION:2.0
PRODID:-//BACC - ECPv6.15.12.2//NONSGML v1.0//EN
CALSCALE:GREGORIAN
METHOD:PUBLISH
X-ORIGINAL-URL:https://baccohio.org
X-WR-CALDESC:Events for BACC
REFRESH-INTERVAL;VALUE=DURATION:PT1H
X-Robots-Tag:noindex
X-PUBLISHED-TTL:PT1H
BEGIN:VTIMEZONE
TZID:America/New_York
BEGIN:DAYLIGHT
TZOFFSETFROM:-0500
TZOFFSETTO:-0400
TZNAME:EDT
DTSTART:20230312T070000
END:DAYLIGHT
BEGIN:STANDARD
TZOFFSETFROM:-0400
TZOFFSETTO:-0500
TZNAME:EST
DTSTART:20231105T060000
END:STANDARD
BEGIN:DAYLIGHT
TZOFFSETFROM:-0500
TZOFFSETTO:-0400
TZNAME:EDT
DTSTART:20240310T070000
END:DAYLIGHT
BEGIN:STANDARD
TZOFFSETFROM:-0400
TZOFFSETTO:-0500
TZNAME:EST
DTSTART:20241103T060000
END:STANDARD
BEGIN:DAYLIGHT
TZOFFSETFROM:-0500
TZOFFSETTO:-0400
TZNAME:EDT
DTSTART:20250309T070000
END:DAYLIGHT
BEGIN:STANDARD
TZOFFSETFROM:-0400
TZOFFSETTO:-0500
TZNAME:EST
DTSTART:20251102T060000
END:STANDARD
END:VTIMEZONE
BEGIN:VEVENT
DTSTART;TZID=America/New_York:20241017T173000
DTEND;TZID=America/New_York:20241017T200000
DTSTAMP:20260424T220553
CREATED:20240927T154307Z
LAST-MODIFIED:20241003T133506Z
UID:8747-1729186200-1729195200@baccohio.org
SUMMARY:Passport Professionals - October 2024
DESCRIPTION:You’re Invited!\nJoin us for a dynamic networking event tailored for the ExPat Community and Cleveland Passport Professionals. This is an excellent opportunity to connect with fellow professionals\, expats\, and recent arrivals in the United States. \nEvent Highlights:\n\nNetwork with Professionals: Meet and mingle with individuals from various fields\, including international business\, shipping\, logistics\, mobility\, and advocacy.\nExplore Opportunities: Discover potential career prospects and industry insights.\nShare Insights: Exchange knowledge and experiences with a diverse group of attendees.\n\nDate: October 17\, 2024\nTime: 5:30 – 8:00 PM\nLocation: Terrestrial Brewing Company\, 7524 Father Frascati Dr | Cleveland\, OH 44102\nCost: FREE \nRSVP: Registration Appreciated \nREGISTER TODAY!\nDon’t miss this chance to expand your professional network and engage with a vibrant community. We look forward to seeing you there!
URL:https://baccohio.org/event/passport-professionals-october-2024/
LOCATION:Terrestrial Brewing Company\, 7524 Father Frascati\, Cleveland\, OH\, 44102\, United States
ATTACH;FMTTYPE=image/jpeg:https://baccohio.org/wp-content/uploads/2024/09/BACC-PP_oct.jpg
END:VEVENT
BEGIN:VEVENT
DTSTART;TZID=America/New_York:20241018T113000
DTEND;TZID=America/New_York:20241018T133000
DTSTAMP:20260424T220553
CREATED:20241003T160831Z
LAST-MODIFIED:20241009T160105Z
UID:8757-1729251000-1729258200@baccohio.org
SUMMARY:Link Club with Suzana Češarek - October 2024
DESCRIPTION:You are cordially invited to an insightful luncheon with our esteemed guest\, Suzana Češarek\, the Consul General of the Republic of Slovenia. The British-American Chamber of Commerce is delighted to present this event\, showcasing Ms. Češarek\, who has been in her current role since September 2024. \nDate: Friday\, October 18th\, 11:30 PM – 1:30 PM\nLocation: Cleveland Yachting Club\, 200 Yacht Club Drive\, Rocky River\, OH 44116 \nSpeaker: Suzana Češarek\, Consul General  \nThe British-American Chamber of Commerce invites you to an illuminating luncheon event as we host Suzana Češarek is a career diplomat\, serving as the Consul General of the Republic of Slovenia in Cleveland since September 2024. \nAbout Suzana Češarek:\nBefore coming to Cleveland\, she was Deputy Director General for Political Affairs at the Ministry of Foreign and European Affairs in Ljubljana. \nHer previous foreign assignments include Permanent Mission of the Republic of Slovenia to the United Nations in New York\, Permanent Representation of the Republic of Slovenia to the European Union in Brussels and the Embassy of the Republic of Slovenia in Vienna. \nBorn in 1979\, Suzana Češarek holds a degree from the Faculty of Law and a master’s degree from the Faculty of Social Sciences\, University of Ljubljana. \nEvent Details:\nJoin us for an engaging presentation by Suzana Češarek\, followed by a Q&A session. \nRegister Today!\nSecure your spot at this exclusive event by registering on this webpage. Space is limited\, so register early to guarantee your participation. We look forward to seeing you there!
URL:https://baccohio.org/event/link-club-with-suzana-cesarek-october-2024/
LOCATION:The Cleveland Yachting Club\, 200 Yacht Club Drive\, Rocky River\, OH\, 44116\, United States
CATEGORIES:Link Club
ATTACH;FMTTYPE=image/jpeg:https://baccohio.org/wp-content/uploads/2024/10/LC_Oct_2160x1080.jpg
END:VEVENT
END:VCALENDAR