BEGIN:VCALENDAR
VERSION:2.0
PRODID:-//BACC - ECPv6.15.12.2//NONSGML v1.0//EN
CALSCALE:GREGORIAN
METHOD:PUBLISH
X-WR-CALNAME:BACC
X-ORIGINAL-URL:https://baccohio.org
X-WR-CALDESC:Events for BACC
REFRESH-INTERVAL;VALUE=DURATION:PT1H
X-Robots-Tag:noindex
X-PUBLISHED-TTL:PT1H
BEGIN:VTIMEZONE
TZID:America/New_York
BEGIN:DAYLIGHT
TZOFFSETFROM:-0500
TZOFFSETTO:-0400
TZNAME:EDT
DTSTART:20240310T070000
END:DAYLIGHT
BEGIN:STANDARD
TZOFFSETFROM:-0400
TZOFFSETTO:-0500
TZNAME:EST
DTSTART:20241103T060000
END:STANDARD
BEGIN:DAYLIGHT
TZOFFSETFROM:-0500
TZOFFSETTO:-0400
TZNAME:EDT
DTSTART:20250309T070000
END:DAYLIGHT
BEGIN:STANDARD
TZOFFSETFROM:-0400
TZOFFSETTO:-0500
TZNAME:EST
DTSTART:20251102T060000
END:STANDARD
BEGIN:DAYLIGHT
TZOFFSETFROM:-0500
TZOFFSETTO:-0400
TZNAME:EDT
DTSTART:20260308T070000
END:DAYLIGHT
BEGIN:STANDARD
TZOFFSETFROM:-0400
TZOFFSETTO:-0500
TZNAME:EST
DTSTART:20261101T060000
END:STANDARD
END:VTIMEZONE
BEGIN:VEVENT
DTSTART;TZID=America/New_York:20250424T170000
DTEND;TZID=America/New_York:20250426T213000
DTSTAMP:20260424T101322
CREATED:20250228T141109Z
LAST-MODIFIED:20250228T141333Z
UID:8877-1745514000-1745703000@baccohio.org
SUMMARY:Elgar Society Concert
DESCRIPTION:Join Us at the Elgar Society Annual Conference – A Celebration of British Music in Cleveland\, April 24-26\, 2025! The British American Chamber of Commerce (BACC) is proud to support the 2025 Elgar Society Annual Conference at the Marriott Courtyard Hotel\, University Circle\, Cleveland. Celebrating the life and music of British composer Edward Elgar\, this event offers a range of performances\, talks\, and tours. The British American Chamber of Commerce of Ohio is a proud donor to this event and invites members and friends to attend. \nConference Highlights:  \n\nThursday\, April 24: Kick-off dinner and keynote address by Charles McGuire from Oberlin Conservatory.\nFriday\, April 25: Tour of Severance Music Center and Cleveland Museum of Art’s British collection\, followed by the BACC reception and an Elgar organ recital by Ken Cowan.\nSaturday\, April 26: Insights from Maestro Kazuki Yamada on Elgar\, a lecture by Lani Spahr\, and a Cleveland Orchestra concert featuring Elgar’s Symphony No. 1.\n\nYou are welcome to participate in all or part of the conference at reduced costs. To attend\, please email Bob Boyce at treasurer@baccohio.org with  your phone number for further details.
URL:https://baccohio.org/event/elgar-society-concert/
LOCATION:Marriott Courtyard Hotel\, University Circle\, 2021 Cornell Road\, Cleveland\, Ohio\, 44106\, United States
CATEGORIES:BACC Hosted
ATTACH;FMTTYPE=image/jpeg:https://baccohio.org/wp-content/uploads/2025/02/violins-1838390-scaled.jpg
END:VEVENT
END:VCALENDAR