BEGIN:VCALENDAR
VERSION:2.0
PRODID:-//BACC - ECPv6.15.12.2//NONSGML v1.0//EN
CALSCALE:GREGORIAN
METHOD:PUBLISH
X-WR-CALNAME:BACC
X-ORIGINAL-URL:https://baccohio.org
X-WR-CALDESC:Events for BACC
REFRESH-INTERVAL;VALUE=DURATION:PT1H
X-Robots-Tag:noindex
X-PUBLISHED-TTL:PT1H
BEGIN:VTIMEZONE
TZID:America/New_York
BEGIN:DAYLIGHT
TZOFFSETFROM:-0500
TZOFFSETTO:-0400
TZNAME:EDT
DTSTART:20240310T070000
END:DAYLIGHT
BEGIN:STANDARD
TZOFFSETFROM:-0400
TZOFFSETTO:-0500
TZNAME:EST
DTSTART:20241103T060000
END:STANDARD
BEGIN:DAYLIGHT
TZOFFSETFROM:-0500
TZOFFSETTO:-0400
TZNAME:EDT
DTSTART:20250309T070000
END:DAYLIGHT
BEGIN:STANDARD
TZOFFSETFROM:-0400
TZOFFSETTO:-0500
TZNAME:EST
DTSTART:20251102T060000
END:STANDARD
BEGIN:DAYLIGHT
TZOFFSETFROM:-0500
TZOFFSETTO:-0400
TZNAME:EDT
DTSTART:20260308T070000
END:DAYLIGHT
BEGIN:STANDARD
TZOFFSETFROM:-0400
TZOFFSETTO:-0500
TZNAME:EST
DTSTART:20261101T060000
END:STANDARD
END:VTIMEZONE
BEGIN:VEVENT
DTSTART;TZID=America/New_York:20251112T090000
DTEND;TZID=America/New_York:20251113T170000
DTSTAMP:20260423T174741
CREATED:20250829T185230Z
LAST-MODIFIED:20250829T185230Z
UID:9126-1762938000-1763053200@baccohio.org
SUMMARY:AMI Plastics World Expos North America 2025
DESCRIPTION:This November 12–13 in Cleveland\, the IAM Expo team will be on the show floor at the AMI Plastics World Expos to give attendees an exclusive preview of International Advanced manufacturing (IAM) Expo 2026.\nAs an exhibitor\, we’re excited to spotlight how the IAM Expo is shaping the future of manufacturing—with breakthroughs in AI\, robotics\, additive manufacturing\, advanced materials\, EVs\, aerospace\, and more. \nBy exhibiting alongside the Compounding\, Plastics Extrusion\, Recycling\, and Polymer Testing World Expos\, we’re not only sharing what’s ahead for IAM Expo 2026—but also engaging with an incredible network across plastics and advanced manufacturing. \nMeet us at Booth #R2608\nNovember 12–13\, 2025 | Huntington Convention Center\, Cleveland\, OH\nRegister for FREE!\nDon’t miss this chance to explore the future of manufacturing—stop by and see us!
URL:https://baccohio.org/event/ami-plastics-world-expos-north-america-2025/
LOCATION:Huntington Convention Center\, 300 W Lakeside Ave\, Cleveland\, Ohio\, 44114\, United States
CATEGORIES:BACC Hosted
ATTACH;FMTTYPE=image/jpeg:https://baccohio.org/wp-content/uploads/2025/08/ami-web-head.jpg
ORGANIZER;CN="Collaborative Chambers Alliance":MAILTO:collaborativechambers@gmail.com
END:VEVENT
END:VCALENDAR