BEGIN:VCALENDAR
VERSION:2.0
PRODID:-//BACC - ECPv6.15.12.2//NONSGML v1.0//EN
CALSCALE:GREGORIAN
METHOD:PUBLISH
X-ORIGINAL-URL:https://baccohio.org
X-WR-CALDESC:Events for BACC
REFRESH-INTERVAL;VALUE=DURATION:PT1H
X-Robots-Tag:noindex
X-PUBLISHED-TTL:PT1H
BEGIN:VTIMEZONE
TZID:America/New_York
BEGIN:DAYLIGHT
TZOFFSETFROM:-0500
TZOFFSETTO:-0400
TZNAME:EDT
DTSTART:20250309T070000
END:DAYLIGHT
BEGIN:STANDARD
TZOFFSETFROM:-0400
TZOFFSETTO:-0500
TZNAME:EST
DTSTART:20251102T060000
END:STANDARD
BEGIN:DAYLIGHT
TZOFFSETFROM:-0500
TZOFFSETTO:-0400
TZNAME:EDT
DTSTART:20260308T070000
END:DAYLIGHT
BEGIN:STANDARD
TZOFFSETFROM:-0400
TZOFFSETTO:-0500
TZNAME:EST
DTSTART:20261101T060000
END:STANDARD
BEGIN:DAYLIGHT
TZOFFSETFROM:-0500
TZOFFSETTO:-0400
TZNAME:EDT
DTSTART:20270314T070000
END:DAYLIGHT
BEGIN:STANDARD
TZOFFSETFROM:-0400
TZOFFSETTO:-0500
TZNAME:EST
DTSTART:20271107T060000
END:STANDARD
END:VTIMEZONE
BEGIN:VEVENT
DTSTART;TZID=America/New_York:20260430T173000
DTEND;TZID=America/New_York:20260430T193000
DTSTAMP:20260423T033407
CREATED:20260323T175947Z
LAST-MODIFIED:20260323T180500Z
UID:9322-1777570200-1777577400@baccohio.org
SUMMARY:International Chambers Passport Professionals - April 2026
DESCRIPTION:Connect with expats and international pros in Cleveland at a free\, relaxed evening of networking and idea sharing.\nDate: Thursday\, April 30\, 5:30 – 7:30 PM\nLocation: Market Garden Brewery\, 1947 W. 25th St. | Cleveland OH 44113 \nThe BACC has joined together with the Collaborative Chambers Alliance\, the French-American Chamber\, the Greater Cleveland Chinese Chamber and the Swedish-American Chamber and hopes to expand to other international chambers of commerce. \nThis casual\, high-energy evening is the perfect chance to connect with fellow expats\, international professionals\, and members of the global business community right here in Cleveland. \nWhether you’re new to the U.S.\, recently relocated\, or a seasoned professional with international ties\, this is your space to share stories\, spark ideas\, and grow your network in a welcoming\, relaxed atmosphere. \nThis is a free event—so bring a friend and come enjoy great conversations\, a vibrant crowd\, and a fun evening at one of Cleveland’s favorite spots. \nWe can’t wait to see you there! \nREGISTER\n\nIf you would like to help\, please reach out to BACC Harriet L. Russell at harriet@harrietrussell.com; CCA Nicky Sulandari at collaborativechambers@gmail.com; or SACC Jim Hornyak at jwhornyak@cs.com
URL:https://baccohio.org/event/international-chambers-passport-professionals-april-2026/
LOCATION:Market Garden Brewery\, 1947 W. 25th Street\, Cleveland\, OH\, 44113\, United States
CATEGORIES:Passport Professionals
ATTACH;FMTTYPE=image/jpeg:https://baccohio.org/wp-content/uploads/2026/02/IntPassProf2160x1080_v1.jpg
END:VEVENT
BEGIN:VEVENT
DTSTART;TZID=America/New_York:20260720T090000
DTEND;TZID=America/New_York:20260724T170000
DTSTAMP:20260423T033407
CREATED:20250829T184402Z
LAST-MODIFIED:20260401T133830Z
UID:9112-1784538000-1784912400@baccohio.org
SUMMARY:Farnborough International Airshow 2026
DESCRIPTION:Act Now: Ohio Aerospace Companies – Farnborough 2026!\nThe Farnborough International Airshow 2026 is already fully booked — and aerospace leaders like Airbus\, BAE Systems\, Lockheed Martin\, Bell\, Viasat\, and MBDA are already on board. And Ohio will be represented in force. \nTogether\, the British American Chamber of Commerce-Ohio\, French American Chamber of Commerce- Midwest Ohio\, and Global Aero Industries are joining forces to bring Ohio’s brightest aerospace innovators to the world stage. \nOhio aerospace innovators — space in our delegation is extremely limited. Don’t miss your chance to: \n\nConnect with global leaders\nShowcase your technology on the world stage\nExpand your international footprint\n\nAlthough the show is sold out\, we still have room for co-exhibitors at our booth.\nTo become a Sponsor or Co-Exhibitor contact:\nKim Holizna – President\, Global Aero Industries\, kholizna@globalaeroindustries.com | +1 216 577-1235\nJohn Senese – President – BACC-OHIO\,  johnsenese@ohiohills.com\nCédric Le Rouge – President – FACC-OHIO\, cedric.lerouge@faccohio.org
URL:https://baccohio.org/event/farnborough-international-airshow-2026/
LOCATION:Farnborough International Exhibition & Conference Centre\, ShowCentre\, Etps Rd\, Farnborough GU14 6FD\, United Kingdom
CATEGORIES:BACC Hosted
ATTACH;FMTTYPE=image/png:https://baccohio.org/wp-content/uploads/2025/08/Farnborough_header.png
END:VEVENT
END:VCALENDAR