BEGIN:VCALENDAR
VERSION:2.0
PRODID:-//BACC - ECPv6.15.12.2//NONSGML v1.0//EN
CALSCALE:GREGORIAN
METHOD:PUBLISH
X-WR-CALNAME:BACC
X-ORIGINAL-URL:https://baccohio.org
X-WR-CALDESC:Events for BACC
REFRESH-INTERVAL;VALUE=DURATION:PT1H
X-Robots-Tag:noindex
X-PUBLISHED-TTL:PT1H
BEGIN:VTIMEZONE
TZID:America/New_York
BEGIN:DAYLIGHT
TZOFFSETFROM:-0500
TZOFFSETTO:-0400
TZNAME:EDT
DTSTART:20240310T070000
END:DAYLIGHT
BEGIN:STANDARD
TZOFFSETFROM:-0400
TZOFFSETTO:-0500
TZNAME:EST
DTSTART:20241103T060000
END:STANDARD
BEGIN:DAYLIGHT
TZOFFSETFROM:-0500
TZOFFSETTO:-0400
TZNAME:EDT
DTSTART:20250309T070000
END:DAYLIGHT
BEGIN:STANDARD
TZOFFSETFROM:-0400
TZOFFSETTO:-0500
TZNAME:EST
DTSTART:20251102T060000
END:STANDARD
BEGIN:DAYLIGHT
TZOFFSETFROM:-0500
TZOFFSETTO:-0400
TZNAME:EDT
DTSTART:20260308T070000
END:DAYLIGHT
BEGIN:STANDARD
TZOFFSETFROM:-0400
TZOFFSETTO:-0500
TZNAME:EST
DTSTART:20261101T060000
END:STANDARD
END:VTIMEZONE
BEGIN:VEVENT
DTSTART;TZID=America/New_York:20250824T110000
DTEND;TZID=America/New_York:20250824T180000
DTSTAMP:20260424T002042
CREATED:20250730T154211Z
LAST-MODIFIED:20250730T154347Z
UID:9071-1756033200-1756058400@baccohio.org
SUMMARY:One World Day 2025
DESCRIPTION:Join us for One World Day\, the premier annual event hosted by the Cleveland Cultural Gardens Federation since 1946! This celebration brings together Cleveland’s vibrant cultural communities through music\, dance\, storytelling\, and so much more. Experience the diversity that makes our city unique\, and enjoy a day of global heritage in one beautiful place. \nVisit the British Cultural Garden\nAs part of this year’s festivities\, don’t miss the British Cultural Garden\, the first of the international cultural gardens. This year\, we’re excited to unveil a new sundial and benches\, offering a peaceful spot to take in the beauty of the garden. Be sure to stop by and meet the British Cultural Garden committee\, learn about the garden’s history\, and celebrate the contributions of British culture to Cleveland. \nCome explore\, connect\, and celebrate the world’s rich diversity at One World Day!
URL:https://baccohio.org/event/one-world-day-2025/
LOCATION:Cleveland Cultural Gardens\, Martin Luther King Jr D\, Cleveland\, Ohio\, 44106\, United States
CATEGORIES:BACC Hosted
ATTACH;FMTTYPE=image/jpeg:https://baccohio.org/wp-content/uploads/2025/07/British-garden-e1753890220871.jpg
END:VEVENT
END:VCALENDAR