BEGIN:VCALENDAR
VERSION:2.0
PRODID:-//BACC - ECPv6.15.12.2//NONSGML v1.0//EN
CALSCALE:GREGORIAN
METHOD:PUBLISH
X-ORIGINAL-URL:https://baccohio.org
X-WR-CALDESC:Events for BACC
REFRESH-INTERVAL;VALUE=DURATION:PT1H
X-Robots-Tag:noindex
X-PUBLISHED-TTL:PT1H
BEGIN:VTIMEZONE
TZID:America/New_York
BEGIN:DAYLIGHT
TZOFFSETFROM:-0500
TZOFFSETTO:-0400
TZNAME:EDT
DTSTART:20240310T070000
END:DAYLIGHT
BEGIN:STANDARD
TZOFFSETFROM:-0400
TZOFFSETTO:-0500
TZNAME:EST
DTSTART:20241103T060000
END:STANDARD
BEGIN:DAYLIGHT
TZOFFSETFROM:-0500
TZOFFSETTO:-0400
TZNAME:EDT
DTSTART:20250309T070000
END:DAYLIGHT
BEGIN:STANDARD
TZOFFSETFROM:-0400
TZOFFSETTO:-0500
TZNAME:EST
DTSTART:20251102T060000
END:STANDARD
BEGIN:DAYLIGHT
TZOFFSETFROM:-0500
TZOFFSETTO:-0400
TZNAME:EDT
DTSTART:20260308T070000
END:DAYLIGHT
BEGIN:STANDARD
TZOFFSETFROM:-0400
TZOFFSETTO:-0500
TZNAME:EST
DTSTART:20261101T060000
END:STANDARD
END:VTIMEZONE
BEGIN:VEVENT
DTSTART;TZID=America/New_York:20251017T113000
DTEND;TZID=America/New_York:20251017T133000
DTSTAMP:20260423T173601
CREATED:20250924T192834Z
LAST-MODIFIED:20250930T153605Z
UID:9145-1760700600-1760707800@baccohio.org
SUMMARY:Link Club with Marti Flacks – October 2025
DESCRIPTION:“The Cleveland Council on World Affairs CEO\, Marti Flacks”\nDate: Friday\, October 17\, 11:30 AM – 1:30 PM \nLocation: Delmonico’s Steakhouse 6001 Quarry Lane | Independence\, OH 44131 \nSpeaker: Marti Flacks\, CEO Cleveland Council on World Affairs \nJoin us for an exclusive Link Club luncheon hosted by the British-American Chamber of Commerce Ohio as we welcome Marti Flacks\, the new CEO of the Cleveland Council on World Affairs (CCWA)\, as our distinguished guest speaker. \n“Cleveland as a Global City”\nCleveland is an international city that is connected to the rest of the world through trade\, technology\, migration\, and many other critical global topics. CCWA’s new CEO Marti Flacks will share her vision for CCWA and explore how the organization helps support Cleveland’s civic and business leaders in navigating these global trends and understanding their impact to the lives and livelihoods in Ohio. \nAbout Marti: \nA Cleveland native\, Marti has worked both inside and outside government during her 25-year foreign policy career. She most recently served as the first Deputy Assistant Secretary for the Supply Chain Center in the U.S. Department of Commerce’s International Trade Administration\, where she oversaw the design and launch of first-of-their-kind supply chain assessment tools that reshaped how the U.S. government quantifies and analyzes economic security risks. \nEarlier\, Marti worked as Director of African Affairs at the U.S. National Security Council\, covering East and Southern Africa and continent-wide security and economic issues\, and in senior positions in the State Department’s Energy Resources and Africa Bureaus\, including four years working on Sudan and South Sudan for the U.S. Special Envoy. \nOutside of government\, Marti served as Khosravi Chair in Principled Internationalis and Director of the Human Rights Initiative at the Center for Strategic and International Studies\, a leading foreign policy think tank\, and as Deputy Director of the Business & Human Rights Resource Center – an NGO that promotes responsible business conduct by companies around the world. \nShe received her B.S. in Foreign Service from Georgetown University’s School of Foreign Service\, her M.A. in Law and Diplomacy from the Fletcher School at Tufts University\, and her JD from Columbia Law School. \nDon’t miss this opportunity to learn more and share the experience with other NE Ohioans. There will be time for networking and Q & A. \nSeats are Limited – RSVP Today!
URL:https://baccohio.org/event/link-club-with-marti-flacks-october-2025/
LOCATION:Delmonico’s Steak House\, 6001 Quarry Lane\, Independence\, OH\, 44131\, United States
CATEGORIES:Link Club
ATTACH;FMTTYPE=image/jpeg:https://baccohio.org/wp-content/uploads/2025/09/LinkClub_2160x1080_CLE-v1-FLACKS.jpg
END:VEVENT
END:VCALENDAR