BEGIN:VCALENDAR
VERSION:2.0
PRODID:-//BACC - ECPv6.15.12.2//NONSGML v1.0//EN
CALSCALE:GREGORIAN
METHOD:PUBLISH
X-WR-CALNAME:BACC
X-ORIGINAL-URL:https://baccohio.org
X-WR-CALDESC:Events for BACC
REFRESH-INTERVAL;VALUE=DURATION:PT1H
X-Robots-Tag:noindex
X-PUBLISHED-TTL:PT1H
BEGIN:VTIMEZONE
TZID:America/New_York
BEGIN:DAYLIGHT
TZOFFSETFROM:-0500
TZOFFSETTO:-0400
TZNAME:EDT
DTSTART:20240310T070000
END:DAYLIGHT
BEGIN:STANDARD
TZOFFSETFROM:-0400
TZOFFSETTO:-0500
TZNAME:EST
DTSTART:20241103T060000
END:STANDARD
BEGIN:DAYLIGHT
TZOFFSETFROM:-0500
TZOFFSETTO:-0400
TZNAME:EDT
DTSTART:20250309T070000
END:DAYLIGHT
BEGIN:STANDARD
TZOFFSETFROM:-0400
TZOFFSETTO:-0500
TZNAME:EST
DTSTART:20251102T060000
END:STANDARD
BEGIN:DAYLIGHT
TZOFFSETFROM:-0500
TZOFFSETTO:-0400
TZNAME:EDT
DTSTART:20260308T070000
END:DAYLIGHT
BEGIN:STANDARD
TZOFFSETFROM:-0400
TZOFFSETTO:-0500
TZNAME:EST
DTSTART:20261101T060000
END:STANDARD
END:VTIMEZONE
BEGIN:VEVENT
DTSTART;TZID=America/New_York:20250918T170000
DTEND;TZID=America/New_York:20250918T190000
DTSTAMP:20260423T182430
CREATED:20250822T180048Z
LAST-MODIFIED:20250910T131215Z
UID:9098-1758214800-1758222000@baccohio.org
SUMMARY:Passport Professionals – Columbus – September 2025
DESCRIPTION:BACC Passport Professionals in Columbus.\nPassport Professionals in Columbus\, Thursday\, September 18 | 5:00 -7:00 PM \nAndon’s Pub\, 5815 Karric Square Drive | Dublin\, OH 43016 \nThis casual evening is the perfect chance to connect with fellow expats\, international professionals\, and members of the global business community in Columbus. Whether you’re new to the U.S.\, recently relocated\, or a seasoned professional with international ties\, this is your space to share stories\, spark ideas\, and grow your network in a welcoming\, relaxed atmosphere. \nHosted by the BACC\, this event is free—so bring a friend and come enjoy great conversations and a fun evening at one of Columbus’ favorite spots. For more information contact BACC Member in Columbus: Max Posival at mposival@cmhship.co or 614.285.6282. \nNo cost to attend — RSVP and join the fun!
URL:https://baccohio.org/event/passport-professionals-columbus-september-2025/
LOCATION:Andon’s Pub\, 5815 Karric Square Drive\, Dublin\, Ohio\, 43016
CATEGORIES:Passport Professionals
ATTACH;FMTTYPE=image/jpeg:https://baccohio.org/wp-content/uploads/2025/07/PP_COLUMBUS_2160x1080.jpg
END:VEVENT
END:VCALENDAR