BEGIN:VCALENDAR
VERSION:2.0
PRODID:-//BACC - ECPv6.15.12.2//NONSGML v1.0//EN
CALSCALE:GREGORIAN
METHOD:PUBLISH
X-WR-CALNAME:BACC
X-ORIGINAL-URL:https://baccohio.org
X-WR-CALDESC:Events for BACC
REFRESH-INTERVAL;VALUE=DURATION:PT1H
X-Robots-Tag:noindex
X-PUBLISHED-TTL:PT1H
BEGIN:VTIMEZONE
TZID:America/New_York
BEGIN:DAYLIGHT
TZOFFSETFROM:-0500
TZOFFSETTO:-0400
TZNAME:EDT
DTSTART:20240310T070000
END:DAYLIGHT
BEGIN:STANDARD
TZOFFSETFROM:-0400
TZOFFSETTO:-0500
TZNAME:EST
DTSTART:20241103T060000
END:STANDARD
BEGIN:DAYLIGHT
TZOFFSETFROM:-0500
TZOFFSETTO:-0400
TZNAME:EDT
DTSTART:20250309T070000
END:DAYLIGHT
BEGIN:STANDARD
TZOFFSETFROM:-0400
TZOFFSETTO:-0500
TZNAME:EST
DTSTART:20251102T060000
END:STANDARD
BEGIN:DAYLIGHT
TZOFFSETFROM:-0500
TZOFFSETTO:-0400
TZNAME:EDT
DTSTART:20260308T070000
END:DAYLIGHT
BEGIN:STANDARD
TZOFFSETFROM:-0400
TZOFFSETTO:-0500
TZNAME:EST
DTSTART:20261101T060000
END:STANDARD
END:VTIMEZONE
BEGIN:VEVENT
DTSTART;TZID=America/New_York:20251023T173000
DTEND;TZID=America/New_York:20251023T200000
DTSTAMP:20260423T182551
CREATED:20250924T191349Z
LAST-MODIFIED:20251023T124848Z
UID:9136-1761240600-1761249600@baccohio.org
SUMMARY:Passport Professionals – Cleveland - October 2025
DESCRIPTION:Date: CANCELLED\nTime: 5:30 – 8:00 PM\nLocation: Schnitz Ale Brewery\, 5729 Pearl Rd | Parma\nCost: FREE \nGet ready for an exciting\, high-energy evening at the next Passport Professionals Meet-Up at Schnitz Ale Brewery! This is the perfect opportunity to connect with Cleveland’s global community – from expats and international professionals to those with global business ties. Whether you’re newly settled in the U.S.\, recently relocated\, or a seasoned pro with international experience\, this event is designed for you to share stories\, exchange ideas\, and grow your network in a relaxed\, welcoming setting. \nHosted by the BACC\, this event is 100% free! So\, bring a friend\, enjoy the vibrant atmosphere\, and be part of the conversation at one of Cleveland’s most popular spots. \nEvent Highlights:\n\nConnect with Professionals: Network with experts across various industries—international business\, shipping\, logistics\, mobility\, advocacy\, and more.\nDiscover Opportunities: Unlock career prospects and gain valuable insights into the local and global market.\nShare and Learn: Engage in meaningful conversations and exchange ideas with a diverse group of professionals.\n\n\nDon’t miss this chance to expand your professional network and engage with a vibrant community. We look forward to seeing you there!
URL:https://baccohio.org/event/passport-professionals-cleveland-october-2025/
LOCATION:Schnitz Ale Brewery\, 5729 Pearl Rd\, Parma\, Ohio\, 44129\, United States
CATEGORIES:Passport Professionals
ATTACH;FMTTYPE=image/jpeg:https://baccohio.org/wp-content/uploads/2024/09/BACC-PP_oct.jpg
END:VEVENT
END:VCALENDAR